BEGIN:VCALENDAR
VERSION:2.0
PRODID:-//eventon.com NONSGML v1.0//EN
BEGIN:VEVENT
UID:69e74e26769a8
DTSTAMP:20260421T121502
DTSTART:20230614T150000Z
DTEND:20230614T170000Z
TZID:UTC
LOCATION:AWO Rhein-Neckar\,  Burggasse 23\,  69469 Weinheim AWO Rhein-Neckar\,  Burggasse 23\,  69469 Weinheim
SUMMARY:Ü-60 Party (AWO Rhein-Neckar)
DESCRIPTION: Veranstalter: AWO Rhein-Neckar **Musikalische Zeitreise mit Live-Musik** **aus den 60er und 70er Jahren** Die AWO Rhein-Neckar lädt alle Seniorinnen und Senioren\,  Junggebliebene und Freunde der AWO\,  zu einem fröhlichen Nachmittag mit Kaffee und Kuchen ein. Der Musiker und Entertainer Martin Böhm unterhält die Gäste zusammen mit der „Stommdisch Bänd vunn[..]\nhttps://seniorenapp-weinheim.de/events/ue-60-party-awo-rhein-neckar
URL:https://seniorenapp-weinheim.de/events/ue-60-party-awo-rhein-neckar
END:VEVENT
END:VCALENDAR