BEGIN:VCALENDAR
VERSION:2.0
PRODID:-//eventon.com NONSGML v1.0//EN
BEGIN:VEVENT
UID:69e73845b2cbc
DTSTAMP:20260421T104141
DTSTART:20250602T100000Z
DTEND:20250602T113000Z
TZID:UTC
LOCATION:Büro des SSR\,  Dürrestraße 2 Büro des SSR\,  Dürrestraße 2
SUMMARY:Strickcafé (Stadtseniorenrat Weinheim e.V.)
DESCRIPTION: Veranstalter: Stadtseniorenrat Weinheim e.V. Teilnehmer\,  die Freude am Stricken haben und dies unter Gleichgesinnten in Gesellschaft tun möchten. Das Strick Café ist nicht nur für versierte Stricker\,  sondern auch für weniger Geübte gedacht. Kategorie: Kreatives Arbeiten\nhttps://seniorenapp-weinheim.de/events/strickcafe-stadtseniorenrat-weinheim-e-v-108
URL:https://seniorenapp-weinheim.de/events/strickcafe-stadtseniorenrat-weinheim-e-v-108
END:VEVENT
END:VCALENDAR