BEGIN:VCALENDAR
VERSION:2.0
PRODID:-//eventon.com NONSGML v1.0//EN
BEGIN:VEVENT
UID:69e738572dc75
DTSTAMP:20260421T104159
DTSTART:20230921T190000Z
DTEND:20230921T203000Z
TZID:UTC
LOCATION:Rolf-Engelbrecht-Haus\,  Breslauer Str. 40/1\,  69469 Weinheim Rolf-Engelbrecht-Haus\,  Breslauer Str. 40/1\,  69469 Weinheim
SUMMARY:Start eines neuen Popchors - internationale Chorliteratur für Singbegeisterte
DESCRIPTION: Veranstalter: Gesangsverein 1955 Weinheim Gemischter 4-stimmiger Chor &#8211; Sopran\,  Alt\,  Tenor und Bass. Proben immer donnerstags von 19 bis 20.30 Uhr. Kontakt: Tiziana Abegg (0172/6928676 und tiziana.abegg@gmail.com) Kategorie: Musik\,  Tanz\nhttps://seniorenapp-weinheim.de/events/start-eines-neuen-popchors-internationale-chorliteratur-fuer-singbegeisterte
URL:https://seniorenapp-weinheim.de/events/start-eines-neuen-popchors-internationale-chorliteratur-fuer-singbegeisterte
END:VEVENT
END:VCALENDAR