BEGIN:VCALENDAR
VERSION:2.0
PRODID:-//eventon.com NONSGML v1.0//EN
BEGIN:VEVENT
UID:69e5f1904eb0a
DTSTAMP:20260420T112744
DTSTART:20231108T183000Z
DTEND:20231108T203000Z
TZID:UTC
LOCATION:GRN-Klinik Weinheim\,  Röntgenstraße 1\,  69469 Weinheim GRN-Klinik Weinheim\,  Röntgenstraße 1\,  69469 Weinheim
SUMMARY:Vortragsreihe "Was Frauen bewegt": Wechseljahre
DESCRIPTION: Veranstalter: GRN-Klinik Weinheim **Was Frauen bewegt** Mit dieser allgemein verständlichen Vortragsreihe soll allen Interessierten ein näherer Einblick in das Angebot der Abteilung Gynäkologie gegeben werden. Die Vorträge finden jeweils mittwochs um 18:30 Uhr in der Cafeteria der GRN-Klinik Weinheim statt. Eintritt frei **Die Termine** 10.05. Frauengesundheit &#8211; wie bleibe ich[..]\nhttps://seniorenapp-weinheim.de/events/vortragsreihe-was-frauen-bewegt-wechseljahre
URL:https://seniorenapp-weinheim.de/events/vortragsreihe-was-frauen-bewegt-wechseljahre
END:VEVENT
END:VCALENDAR