BEGIN:VCALENDAR
VERSION:2.0
PRODID:-//eventon.com NONSGML v1.0//EN
BEGIN:VEVENT
UID:69e74e65a83f6
DTSTAMP:20260421T121605
DTSTART:20231217T150000Z
DTEND:20231217T170000Z
TZID:UTC
LOCATION:NTM - Altes Kino Franklin\,  Abraham-Lincoln-Allee 1\,  68309 Mannheim NTM - Altes Kino Franklin\,  Abraham-Lincoln-Allee 1\,  68309 Mannheim
SUMMARY:Theater für Senioren im Nationaltheater "CHRRRRSCHHHHHH – In den Wald!"
DESCRIPTION: Veranstalter: Nationaltheater Mannheim ***CHRRRRSCHHHHHH – In den Wald!*** Familienstück von Daniel Cremer & Band Der Wald. Groß\,  dunkel\,  kühl. Was raschelt und knackst? Wer pfeift und knurrt? Nur der Wind in den Bäumen. Ganze Welten liegen an den Stadt-Grenzen\,  wo uraltes Leben auf menschliche Zivilisation trifft: ein postmodernes Märchen für[..]\nhttps://seniorenapp-weinheim.de/events/theater-fuer-senioren-im-nationaltheater-chrrrrschhhhhh-in-den-wald-2
URL:https://seniorenapp-weinheim.de/events/theater-fuer-senioren-im-nationaltheater-chrrrrschhhhhh-in-den-wald-2
END:VEVENT
END:VCALENDAR