BEGIN:VCALENDAR
VERSION:2.0
PRODID:-//eventon.com NONSGML v1.0//EN
BEGIN:VEVENT
UID:69e74e563a2c1
DTSTAMP:20260421T121550
DTSTART:20240229T143000Z
DTEND:20240229T153000Z
TZID:UTC
LOCATION:Stadtbibliothek\,  kleiner Gruppenraum Stadtbibliothek\,   kleiner Gruppenraum
SUMMARY:YOGA - auf und mit dem Stuhl
DESCRIPTION: Veranstalter: Ulrike Stein **YOGA &#8211; üben &#8211; erfahren &#8211; verstehen** &#8211; **verbessert die Beweglichkeit** &#8211; **fördert das Gleichgewicht** &#8211; **vertieft das Atmen** &#8211; **regt die Durchblutung von Organen und Gehirn an** &#8211; **schenkt Vitalität\,  Gelassenheit und Lebensfreude** Kategorie: Gesundheit\,  Pflege\nhttps://seniorenapp-weinheim.de/events/yoga-auf-und-mit-dem-stuhl-3
URL:https://seniorenapp-weinheim.de/events/yoga-auf-und-mit-dem-stuhl-3
END:VEVENT
END:VCALENDAR