BEGIN:VCALENDAR
VERSION:2.0
PRODID:-//eventon.com NONSGML v1.0//EN
BEGIN:VEVENT
UID:69e73850d7b16
DTSTAMP:20260421T104152
DTSTART:20240214T140000Z
DTEND:20240214T160000Z
TZID:UTC
LOCATION:Café am Markt Café am Markt
SUMMARY:Babbelcafé
DESCRIPTION: Veranstalter: Stadtseniorenrat Die Babbelbank zieht aus dem Schlosspark wieder für die Herbst- und Winterzeit um in Innenräume. Ein Tisch im Café am Markt ist reserviert Am 2. und 4. Mittwoch eines Monats ist ein Vertreter des Stadtseniorenrats vor Ort Kategorie: Gesprächsgruppe\,  Gesprächsangebot\nhttps://seniorenapp-weinheim.de/events/babbelcafe
URL:https://seniorenapp-weinheim.de/events/babbelcafe
END:VEVENT
END:VCALENDAR