BEGIN:VCALENDAR
VERSION:2.0
PRODID:-//eventon.com NONSGML v1.0//EN
BEGIN:VEVENT
UID:69e74e5108544
DTSTAMP:20260421T121545
DTSTART:20240508T140000Z
DTEND:20240508T180000Z
TZID:UTC
LOCATION:Luisenstraße 5/1\,  69469 Weinheim Luisenstraße 5/1\,  69469 Weinheim
SUMMARY:Machmittwoch
DESCRIPTION: Der nächste Machmittwoch in der Weinheimer Stadtbibliothek am 8. Mai bietet für Familien mit Kindern einen spektakulären Nachmittag: Alles um Walt Disney\,  seine Figuren und seine Geschichten. Von 14 bis 18 Uhr können Kinder ab acht Jahren eine Actionbound-Rallye starten: einzeln\,  als Familie oder Freundesgruppe kann man den Bösewichten helfen\, [..]\nhttps://seniorenapp-weinheim.de/events/machmittwoch
URL:https://seniorenapp-weinheim.de/events/machmittwoch
END:VEVENT
END:VCALENDAR