BEGIN:VCALENDAR
VERSION:2.0
PRODID:-//eventon.com NONSGML v1.0//EN
BEGIN:VEVENT
UID:69e74e6aabe61
DTSTAMP:20260421T121610
DTSTART:20240904T160000Z
DTEND:20240904T203000Z
TZID:UTC
LOCATION:Minigolf Anlage Waidallee\,  69469 Weinheim Minigolf Anlage Waidallee\,  69469 Weinheim
SUMMARY:Minigolf mit der Rheumaliga
DESCRIPTION: Veranstalter: Rheumaliga Wir wollen wieder auf der Anlage des MC Weinheim und jährliches Minigolf Turnier spielen. Anschließend Siegerehrung und gemütliches Beisammensein. Für Speisen und Getränke ist gesorgt. Spielgebühr beträgt 4 Euro. Anmeldung bis 31.08.24 bei Christel Keil\,  Tel. 06201 66450 Kategorie: Gesprächsgruppe\,  Gesprächsangebot\,  Gesundheit\,  Pflege\,  Sport\nhttps://seniorenapp-weinheim.de/events/minigolf-mit-der-rheumaliga
URL:https://seniorenapp-weinheim.de/events/minigolf-mit-der-rheumaliga
END:VEVENT
END:VCALENDAR