BEGIN:VCALENDAR
VERSION:2.0
PRODID:-//eventon.com NONSGML v1.0//EN
BEGIN:VEVENT
UID:69e74e4c6f4a8
DTSTAMP:20260421T121540
DTSTART:20241010T150000Z
DTEND:20241010T170000Z
TZID:UTC
LOCATION:Karl-Uban-Haus\,  Holunderweg 3\,  69469 Weinheim Karl-Uban-Haus\,  Holunderweg 3\,  69469 Weinheim
SUMMARY:Kaffee und MEHR - Angebot für alle 60+
DESCRIPTION: Veranstalter: kath. Kirchengemeinde Herz-Jesu-Oberflockenbach Kategorie: Gesprächsgruppe\,  Gesprächsangebot\,  Kino\nhttps://seniorenapp-weinheim.de/events/kaffee-und-mehr-angebot-fuer-alle-60-2
URL:https://seniorenapp-weinheim.de/events/kaffee-und-mehr-angebot-fuer-alle-60-2
END:VEVENT
END:VCALENDAR