BEGIN:VCALENDAR
VERSION:2.0
PRODID:-//eventon.com NONSGML v1.0//EN
BEGIN:VEVENT
UID:69e5f220a5220
DTSTAMP:20260420T113008
DTSTART:20241013T110000Z
DTEND:20241013T130000Z
TZID:UTC
LOCATION:Kino "Modernes Theater"\,  Hauptstraße\,  69469 Weinheim Kino "Modernes Theater"\,  Hauptstraße\,  69469 Weinheim
SUMMARY:Kino-Matinée der Sozialen Vielfalt
DESCRIPTION: Veranstalter: Soziale Vielfalt Nach dem Film &#8220;Ein Tick anders&#8221; sind die Besucher eingeladen\,  sich bei einem Glas Sekt und Häppchen miteinander auszutauschen. Für Fragen zum Thema des Films und &#8220;anders Sein&#8221; steht Herrn Dr. Marg zur Verfügung. Kategorie: Kino\,  Vortrag\nhttps://seniorenapp-weinheim.de/events/kino-matinee-der-sozialen-vielfalt
URL:https://seniorenapp-weinheim.de/events/kino-matinee-der-sozialen-vielfalt
END:VEVENT
END:VCALENDAR