BEGIN:VCALENDAR
VERSION:2.0
PRODID:-//eventon.com NONSGML v1.0//EN
BEGIN:VEVENT
UID:69e7383bc3f08
DTSTAMP:20260421T104131
DTSTART:20241015T190000Z
DTEND:20241015T200000Z
TZID:UTC
LOCATION:Schulungsraum des Hector-Sport-Centrums der TSG Weinheim\,  Waidallee 2/1\,  69469 Weinheim Schulungsraum des Hector-Sport-Centrums der TSG Weinheim\,  Waidallee 2/1\,  69469 Weinheim
SUMMARY:Vortrag "Osteoporose"
DESCRIPTION: Veranstalter: TSG Weinheim Kategorie: Vortrag\nhttps://seniorenapp-weinheim.de/events/vortrag-osteoporose
URL:https://seniorenapp-weinheim.de/events/vortrag-osteoporose
END:VEVENT
END:VCALENDAR