BEGIN:VCALENDAR
VERSION:2.0
PRODID:-//eventon.com NONSGML v1.0//EN
BEGIN:VEVENT
UID:69e5f195c34d8
DTSTAMP:20260420T112749
DTSTART:20241024T200000Z
DTEND:20241024T213000Z
TZID:UTC
LOCATION:Bürgersaal im Alten Rathaus Bürgersaal im Alten Rathaus
SUMMARY:Vortrag: "Künstliche Intelligenz in der Kunst"
DESCRIPTION: Künstliche Intelligenz (KI) wird zurzeit als umwälzende Innovation in nahezu allen Lebensbereichen diskutiert. Welche Bedeutung hat aber KI in der Kunst\,  ist sie dort ein Segen oder ein Fluch? Der Förderkreis des Museums Weinheim hat dazu eine Expertin zu einem Vortrag eingeladen. Die Weinheimer Kunstwissenschaftlerin Dr. Nicole Hilkert\,  selbst auch[..]\nhttps://seniorenapp-weinheim.de/events/vortrag-kuenstliche-intelligenz-in-der-kunst
URL:https://seniorenapp-weinheim.de/events/vortrag-kuenstliche-intelligenz-in-der-kunst
END:VEVENT
END:VCALENDAR