BEGIN:VCALENDAR
VERSION:2.0
PRODID:-//eventon.com NONSGML v1.0//EN
BEGIN:VEVENT
UID:69e74e6f8fa6c
DTSTAMP:20260421T121615
DTSTART:20250624T150000Z
DTEND:20250624T163000Z
TZID:UTC
LOCATION:Im Kolpingsaal St. Marien\,  Forlenweg 1\,  69469 Weinheim Im Kolpingsaal St. Marien\,  Forlenweg 1\,  69469 Weinheim
SUMMARY:Seniorenclub der evangelischen Kirchengemeinde (Weststadt)
DESCRIPTION: Veranstalter: Evangelische Kirchengemeinde in der Weststadt Kategorie: Gesprächsgruppe\,  Gesprächsangebot\nhttps://seniorenapp-weinheim.de/events/seniorenclub-der-evangelischen-kirchengemeinde-weststadt-11
URL:https://seniorenapp-weinheim.de/events/seniorenclub-der-evangelischen-kirchengemeinde-weststadt-11
END:VEVENT
END:VCALENDAR